BEGIN:VCALENDAR
VERSION:2.0
PRODID:-//International Relations Office - ECPv6.15.18//NONSGML v1.0//EN
CALSCALE:GREGORIAN
METHOD:PUBLISH
X-WR-CALNAME:International Relations Office
X-ORIGINAL-URL:https://iro.khmnu.edu.ua
X-WR-CALDESC:Події за International Relations Office
REFRESH-INTERVAL;VALUE=DURATION:PT1H
X-Robots-Tag:noindex
X-PUBLISHED-TTL:PT1H
BEGIN:VTIMEZONE
TZID:Europe/Kyiv
BEGIN:DAYLIGHT
TZOFFSETFROM:+0200
TZOFFSETTO:+0300
TZNAME:EEST
DTSTART:20250330T010000
END:DAYLIGHT
BEGIN:STANDARD
TZOFFSETFROM:+0300
TZOFFSETTO:+0200
TZNAME:EET
DTSTART:20251026T010000
END:STANDARD
BEGIN:DAYLIGHT
TZOFFSETFROM:+0200
TZOFFSETTO:+0300
TZNAME:EEST
DTSTART:20260329T010000
END:DAYLIGHT
BEGIN:STANDARD
TZOFFSETFROM:+0300
TZOFFSETTO:+0200
TZNAME:EET
DTSTART:20261025T010000
END:STANDARD
BEGIN:DAYLIGHT
TZOFFSETFROM:+0200
TZOFFSETTO:+0300
TZNAME:EEST
DTSTART:20270328T010000
END:DAYLIGHT
BEGIN:STANDARD
TZOFFSETFROM:+0300
TZOFFSETTO:+0200
TZNAME:EET
DTSTART:20271031T010000
END:STANDARD
END:VTIMEZONE
BEGIN:VEVENT
DTSTART;TZID=Europe/Kyiv:20260424T000000
DTEND;TZID=Europe/Kyiv:20260424T235959
DTSTAMP:20260424T021907
CREATED:20260319T132305Z
LAST-MODIFIED:20260319T132307Z
UID:7959-1776988800-1777075199@iro.khmnu.edu.ua
SUMMARY:🇺🇦🤝🇦🇹 Конкурс спільних українсько-австрійських науково-дослідних проєктів (2027–2028)
DESCRIPTION:Оголошено конкурс для українських науковців на участь у спільних дослідницьких проєктах із партнерами з Австрії. \n\n\n\n👥 Хто може брати участь: \n\n\n\n\nнауковці українських ЗВО\n\n\n\nкоманди\, які вже мають або планують співпрацю з австрійськими партнерами\n\n\n\n\n📚 Напрями: будь-які галузі науки \n\n\n\n💡 Мета програми: розвиток міжнародної наукової співпраці\, обмін досвідом та реалізація спільних досліджень \n\n\n\n💰 Фінансування: \n\n\n\n\nпокриття витрат на мобільність (поїздки\, проживання)\n\n\n\nпідтримка спільної дослідницької діяльності\n\n\n\n\n📅 Тривалість проєктів: 2 роки (2027–2028) \n\n\n\n⏰ Дедлайн подачі заявок: 24 квітня 2026 \n\n\n\n✨ Чудова можливість розширити міжнародні контакти та реалізувати спільні наукові ідеї. \n\n\n\n🔗 Деталі та умови участі: https://surl.lu/dveyyv
URL:https://iro.khmnu.edu.ua/event/%f0%9f%87%ba%f0%9f%87%a6%f0%9f%a4%9d%f0%9f%87%a6%f0%9f%87%b9-konkurs-spilnyh-ukrayinsko-avstrijskyh-naukovo-doslidnyh-proyektiv-2027-2028/
END:VEVENT
BEGIN:VEVENT
DTSTART;TZID=Europe/Kyiv:20260424T000000
DTEND;TZID=Europe/Kyiv:20260424T235959
DTSTAMP:20260424T021907
CREATED:20260410T074031Z
LAST-MODIFIED:20260410T074033Z
UID:8093-1776988800-1777075199@iro.khmnu.edu.ua
SUMMARY:💻 Набір провідних викладачів EU Code Week в Україні
DESCRIPTION:EU Code Week оголошує набір провідних викладачів в Україні та запрошує фахівців у сфері освіти й ІТ долучитися до міжнародної ініціативи з розвитку цифрових навичок. \n\n\n\n📅 Дедлайн: 24 квітня 2026 року👩‍🏫 Провідні викладачі EU Code Week – це регіональні представники ініціативи\, які популяризують кодування та цифрову грамотність\, надихають освітян і молодь\, допомагають організовувати події та розвивати спільноту EU Code Week в Україні. \n\n\n\n👥 Вимоги до кандидатів: \n\n\n\n\nвік від 18 років\n\n\n\nдосвід у сфері освіти або технологій\n\n\n\nінтерес до кодування та цифрової грамотності\n\n\n\nкомунікаційні та лідерські навички📌 Основні обов’язки:\n\n\n\nспівпраця з громадами та організаторами заходів у регіоні\n\n\n\nпідтримка та реєстрація нових подій EU Code Week\n\n\n\nучасть у регулярних зустрічах і плануванні ініціатив\n\n\n\nпопуляризація цифрових навичок серед молоді та освітян🔎 Деталі: https://codeweek.eu/community?country_iso=UA
URL:https://iro.khmnu.edu.ua/event/%f0%9f%92%bb-nabir-providnyh-vykladachiv-eu-code-week-v-ukrayini/
END:VEVENT
END:VCALENDAR